BEGIN:VCALENDAR
VERSION:2.0
PRODID:-//Imperial Mainz - ECPv6.15.20//NONSGML v1.0//EN
CALSCALE:GREGORIAN
METHOD:PUBLISH
X-WR-CALNAME:Imperial Mainz
X-ORIGINAL-URL:https://imperialmainz.de
X-WR-CALDESC:Veranstaltungen für Imperial Mainz
REFRESH-INTERVAL;VALUE=DURATION:PT1H
X-Robots-Tag:noindex
X-PUBLISHED-TTL:PT1H
BEGIN:VTIMEZONE
TZID:UTC
BEGIN:STANDARD
TZOFFSETFROM:+0000
TZOFFSETTO:+0000
TZNAME:UTC
DTSTART:20240101T000000
END:STANDARD
END:VTIMEZONE
BEGIN:VEVENT
DTSTART;TZID=UTC:20250227T201100
DTEND;TZID=UTC:20250228T050000
DTSTAMP:20260421T034143
CREATED:20250206T003524Z
LAST-MODIFIED:20250225T155644Z
UID:27220-1740687060-1740718800@imperialmainz.de
SUMMARY:ALTWEIBER FASTNACHT 27.02.2025 DONNERSTAGS SPECIAL
DESCRIPTION:LATINO GANG – Germany’s Biggest Latin / Afro Event\n📅 Donnerstag\, 30. April | 📍 Imperial Global \nHeiß. Laut. Unaufhaltsam.Bei LATINO GANG erwartet dich eine Nacht voller Energie\, Rhythmus und internationaler Club-Vibes. Deutschlands größstes Latin- & Afro-Event bringt die Tanzfläche zum Beben – mit Sounds\, die dich bis in die Morgenstunden tragen. \nSound by: \nDNEIRO x MASTER P x GREEKSTER \nSpecials: \n\nLatin\, Reggaeton\, Afro & Club Sounds\nMaximale Party-Eskalation & internationale Vibes\nVorfeiertag – keine Limits\n\nWeitere Infos: \n\nEintritt ab 18 Jahren\nEintritt: 10 € + 10 € Mindestverzehr\n\nSpür den Rhythmus – LATINO GANG im Imperial Global. 								\n				\n					\n				\n		\n					\n					\n				\n		\n					\n				\n				\n									\n					\n						\n									RESERVIERUNG\n					\n					\n				\n								\n				\n				\n				\n									\n					\n						\n									TICKETS
URL:https://imperialmainz.de/event/altweiber-fastnacht/
CATEGORIES:Featured,Upcoming
ATTACH;FMTTYPE=image/jpeg:https://imperialmainz.de/wp-content/uploads/2025/02/Altweiber-fastnacht-Hochkant-Kopie.jpg
END:VEVENT
END:VCALENDAR