BEGIN:VCALENDAR
VERSION:2.0
PRODID:-//Imperial Mainz - ECPv6.15.20//NONSGML v1.0//EN
CALSCALE:GREGORIAN
METHOD:PUBLISH
X-ORIGINAL-URL:https://imperialmainz.de
X-WR-CALDESC:Veranstaltungen für Imperial Mainz
REFRESH-INTERVAL;VALUE=DURATION:PT1H
X-Robots-Tag:noindex
X-PUBLISHED-TTL:PT1H
BEGIN:VTIMEZONE
TZID:UTC
BEGIN:STANDARD
TZOFFSETFROM:+0000
TZOFFSETTO:+0000
TZNAME:UTC
DTSTART:20240101T000000
END:STANDARD
END:VTIMEZONE
BEGIN:VEVENT
DTSTART;TZID=UTC:20250607T220000
DTEND;TZID=UTC:20250608T050000
DTSTAMP:20260420T223614
CREATED:20250522T195955Z
LAST-MODIFIED:20250606T203026Z
UID:28747-1749333600-1749358800@imperialmainz.de
SUMMARY:Ü30 summer vibes edition/ 07.06.2025
DESCRIPTION:LATINO GANG – Germany’s Biggest Latin / Afro Event\n📅 Donnerstag\, 30. April | 📍 Imperial Global \nHeiß. Laut. Unaufhaltsam.Bei LATINO GANG erwartet dich eine Nacht voller Energie\, Rhythmus und internationaler Club-Vibes. Deutschlands größstes Latin- & Afro-Event bringt die Tanzfläche zum Beben – mit Sounds\, die dich bis in die Morgenstunden tragen. \nSound by: \nDNEIRO x MASTER P x GREEKSTER \nSpecials: \n\nLatin\, Reggaeton\, Afro & Club Sounds\nMaximale Party-Eskalation & internationale Vibes\nVorfeiertag – keine Limits\n\nWeitere Infos: \n\nEintritt ab 18 Jahren\nEintritt: 10 € + 10 € Mindestverzehr\n\nSpür den Rhythmus – LATINO GANG im Imperial Global. 								\n				\n					\n				\n		\n					\n					\n				\n		\n					\n				\n				\n									\n					\n						\n									RESERVIERUNG\n					\n					\n				\n								\n				\n				\n				\n									\n					\n						\n									TICKETS
URL:https://imperialmainz.de/event/ue30-summer-vibes-edition-07-06-2025/
CATEGORIES:Featured,Upcoming
ATTACH;FMTTYPE=image/jpeg:https://imperialmainz.de/wp-content/uploads/2025/05/Insta-Story-Ue30-BIG-ALY-1-Kopie.jpg
END:VEVENT
BEGIN:VEVENT
DTSTART;TZID=UTC:20250608T220000
DTEND;TZID=UTC:20250609T050000
DTSTAMP:20260420T223615
CREATED:20250523T135441Z
LAST-MODIFIED:20250523T135711Z
UID:28763-1749420000-1749445200@imperialmainz.de
SUMMARY:TEMA Mainz / Будь в теме! / 08.06.2025
DESCRIPTION:LATINO GANG – Germany’s Biggest Latin / Afro Event\n📅 Donnerstag\, 30. April | 📍 Imperial Global \nHeiß. Laut. Unaufhaltsam.Bei LATINO GANG erwartet dich eine Nacht voller Energie\, Rhythmus und internationaler Club-Vibes. Deutschlands größstes Latin- & Afro-Event bringt die Tanzfläche zum Beben – mit Sounds\, die dich bis in die Morgenstunden tragen. \nSound by: \nDNEIRO x MASTER P x GREEKSTER \nSpecials: \n\nLatin\, Reggaeton\, Afro & Club Sounds\nMaximale Party-Eskalation & internationale Vibes\nVorfeiertag – keine Limits\n\nWeitere Infos: \n\nEintritt ab 18 Jahren\nEintritt: 10 € + 10 € Mindestverzehr\n\nSpür den Rhythmus – LATINO GANG im Imperial Global. 								\n				\n					\n				\n		\n					\n					\n				\n		\n					\n				\n				\n									\n					\n						\n									RESERVIERUNG\n					\n					\n				\n								\n				\n				\n				\n									\n					\n						\n									TICKETS
URL:https://imperialmainz.de/event/tema-mainz-%d0%b1%d1%83%d0%b4%d1%8c-%d0%b2-%d1%82%d0%b5%d0%bc%d0%b5-08-06-2025/
CATEGORIES:Upcoming
ATTACH;FMTTYPE=image/png:https://imperialmainz.de/wp-content/uploads/2025/05/1000007222.png
END:VEVENT
END:VCALENDAR