BEGIN:VCALENDAR
VERSION:2.0
PRODID:-//Imperial Mainz - ECPv6.15.20//NONSGML v1.0//EN
CALSCALE:GREGORIAN
METHOD:PUBLISH
X-WR-CALNAME:Imperial Mainz
X-ORIGINAL-URL:https://imperialmainz.de
X-WR-CALDESC:Veranstaltungen für Imperial Mainz
REFRESH-INTERVAL;VALUE=DURATION:PT1H
X-Robots-Tag:noindex
X-PUBLISHED-TTL:PT1H
BEGIN:VTIMEZONE
TZID:UTC
BEGIN:STANDARD
TZOFFSETFROM:+0000
TZOFFSETTO:+0000
TZNAME:UTC
DTSTART:20230101T000000
END:STANDARD
END:VTIMEZONE
BEGIN:VEVENT
DTSTART;TZID=UTC:20241130T220000
DTEND;TZID=UTC:20241201T050000
DTSTAMP:20260421T083816
CREATED:20200428T122335Z
LAST-MODIFIED:20241127T171431Z
UID:1196-1733004000-1733029200@imperialmainz.de
SUMMARY:IMPERIAL SATURDAYS CLUBNIGHT 30.11.2024
DESCRIPTION:LATINO GANG – Germany’s Biggest Latin / Afro Event\n📅 Donnerstag\, 30. April | 📍 Imperial Global \nHeiß. Laut. Unaufhaltsam.Bei LATINO GANG erwartet dich eine Nacht voller Energie\, Rhythmus und internationaler Club-Vibes. Deutschlands größstes Latin- & Afro-Event bringt die Tanzfläche zum Beben – mit Sounds\, die dich bis in die Morgenstunden tragen. \nSound by: \nDNEIRO x MASTER P x GREEKSTER \nSpecials: \n\nLatin\, Reggaeton\, Afro & Club Sounds\nMaximale Party-Eskalation & internationale Vibes\nVorfeiertag – keine Limits\n\nWeitere Infos: \n\nEintritt ab 18 Jahren\nEintritt: 10 € + 10 € Mindestverzehr\n\nSpür den Rhythmus – LATINO GANG im Imperial Global. 								\n				\n					\n				\n		\n					\n					\n				\n		\n					\n				\n				\n									\n					\n						\n									RESERVIERUNG\n					\n					\n				\n								\n				\n				\n				\n									\n					\n						\n									TICKETS
URL:https://imperialmainz.de/event/30112024/
CATEGORIES:Upcoming
ATTACH;FMTTYPE=image/jpeg:https://imperialmainz.de/wp-content/uploads/2020/04/Birthday-30-Nov-FEED-.jpg
END:VEVENT
BEGIN:VEVENT
DTSTART;TZID=UTC:20241220T220000
DTEND;TZID=UTC:20241221T050000
DTSTAMP:20260421T083816
CREATED:20241107T125333Z
LAST-MODIFIED:20241126T185815Z
UID:26045-1734732000-1734757200@imperialmainz.de
SUMMARY:STURMFREI MAINZ Fr.20.12.2024
DESCRIPTION:LATINO GANG – Germany’s Biggest Latin / Afro Event\n📅 Donnerstag\, 30. April | 📍 Imperial Global \nHeiß. Laut. Unaufhaltsam.Bei LATINO GANG erwartet dich eine Nacht voller Energie\, Rhythmus und internationaler Club-Vibes. Deutschlands größstes Latin- & Afro-Event bringt die Tanzfläche zum Beben – mit Sounds\, die dich bis in die Morgenstunden tragen. \nSound by: \nDNEIRO x MASTER P x GREEKSTER \nSpecials: \n\nLatin\, Reggaeton\, Afro & Club Sounds\nMaximale Party-Eskalation & internationale Vibes\nVorfeiertag – keine Limits\n\nWeitere Infos: \n\nEintritt ab 18 Jahren\nEintritt: 10 € + 10 € Mindestverzehr\n\nSpür den Rhythmus – LATINO GANG im Imperial Global. 								\n				\n					\n				\n		\n					\n					\n				\n		\n					\n				\n				\n									\n					\n						\n									RESERVIERUNG\n					\n					\n				\n								\n				\n				\n				\n									\n					\n						\n									TICKETS
URL:https://imperialmainz.de/event/sturmfrei/
CATEGORIES:Upcoming
ATTACH;FMTTYPE=image/jpeg:https://imperialmainz.de/wp-content/uploads/2024/11/Feed_Goodlife.jpg
END:VEVENT
BEGIN:VEVENT
DTSTART;TZID=UTC:20241231T190000
DTEND;TZID=UTC:20250101T050000
DTSTAMP:20260421T083816
CREATED:20200428T123115Z
LAST-MODIFIED:20241126T143447Z
UID:1204-1735671600-1735707600@imperialmainz.de
SUMMARY:SILVESTER 2025 DINNER & DANCE TICKET ab 19 Uhr
DESCRIPTION:LATINO GANG – Germany’s Biggest Latin / Afro Event\n📅 Donnerstag\, 30. April | 📍 Imperial Global \nHeiß. Laut. Unaufhaltsam.Bei LATINO GANG erwartet dich eine Nacht voller Energie\, Rhythmus und internationaler Club-Vibes. Deutschlands größstes Latin- & Afro-Event bringt die Tanzfläche zum Beben – mit Sounds\, die dich bis in die Morgenstunden tragen. \nSound by: \nDNEIRO x MASTER P x GREEKSTER \nSpecials: \n\nLatin\, Reggaeton\, Afro & Club Sounds\nMaximale Party-Eskalation & internationale Vibes\nVorfeiertag – keine Limits\n\nWeitere Infos: \n\nEintritt ab 18 Jahren\nEintritt: 10 € + 10 € Mindestverzehr\n\nSpür den Rhythmus – LATINO GANG im Imperial Global. 								\n				\n					\n				\n		\n					\n					\n				\n		\n					\n				\n				\n									\n					\n						\n									RESERVIERUNG\n					\n					\n				\n								\n				\n				\n				\n									\n					\n						\n									TICKETS
URL:https://imperialmainz.de/event/silvesterdinnerdance/
CATEGORIES:Featured,Upcoming
ATTACH;FMTTYPE=image/jpeg:https://imperialmainz.de/wp-content/uploads/2020/04/Ticket-Event-Bild-Silvester-2025-ticketvarianten-1080x1080ZeichenflNche-1.jpg
END:VEVENT
END:VCALENDAR