BEGIN:VCALENDAR
VERSION:2.0
PRODID:-//Imperial Mainz - ECPv6.15.20//NONSGML v1.0//EN
CALSCALE:GREGORIAN
METHOD:PUBLISH
X-WR-CALNAME:Imperial Mainz
X-ORIGINAL-URL:https://imperialmainz.de
X-WR-CALDESC:Veranstaltungen für Imperial Mainz
REFRESH-INTERVAL;VALUE=DURATION:PT1H
X-Robots-Tag:noindex
X-PUBLISHED-TTL:PT1H
BEGIN:VTIMEZONE
TZID:UTC
BEGIN:STANDARD
TZOFFSETFROM:+0000
TZOFFSETTO:+0000
TZNAME:UTC
DTSTART:20240101T000000
END:STANDARD
END:VTIMEZONE
BEGIN:VEVENT
DTSTART;TZID=UTC:20250131T220000
DTEND;TZID=UTC:20250201T050000
DTSTAMP:20260421T072253
CREATED:20241105T152048Z
LAST-MODIFIED:20250117T111240Z
UID:26027-1738360800-1738386000@imperialmainz.de
SUMMARY:1. JAHRESFEIER BEBEQ EVENTS FR. 31.01.2025
DESCRIPTION:LATINO GANG – Germany’s Biggest Latin / Afro Event\n📅 Donnerstag\, 30. April | 📍 Imperial Global \nHeiß. Laut. Unaufhaltsam.Bei LATINO GANG erwartet dich eine Nacht voller Energie\, Rhythmus und internationaler Club-Vibes. Deutschlands größstes Latin- & Afro-Event bringt die Tanzfläche zum Beben – mit Sounds\, die dich bis in die Morgenstunden tragen. \nSound by: \nDNEIRO x MASTER P x GREEKSTER \nSpecials: \n\nLatin\, Reggaeton\, Afro & Club Sounds\nMaximale Party-Eskalation & internationale Vibes\nVorfeiertag – keine Limits\n\nWeitere Infos: \n\nEintritt ab 18 Jahren\nEintritt: 10 € + 10 € Mindestverzehr\n\nSpür den Rhythmus – LATINO GANG im Imperial Global. 								\n				\n					\n				\n		\n					\n					\n				\n		\n					\n				\n				\n									\n					\n						\n									RESERVIERUNG\n					\n					\n				\n								\n				\n				\n				\n									\n					\n						\n									TICKETS
URL:https://imperialmainz.de/event/31012025/
CATEGORIES:Upcoming
ATTACH;FMTTYPE=image/png:https://imperialmainz.de/wp-content/uploads/2024/11/Bebeq.png
END:VEVENT
BEGIN:VEVENT
DTSTART;TZID=UTC:20250201T220000
DTEND;TZID=UTC:20250202T050000
DTSTAMP:20260421T072254
CREATED:20241127T202857Z
LAST-MODIFIED:20250113T172645Z
UID:26461-1738447200-1738472400@imperialmainz.de
SUMMARY:CLUBNIGHT SATURDAYS ü30 EDITION 01.02.2025
DESCRIPTION:LATINO GANG – Germany’s Biggest Latin / Afro Event\n📅 Donnerstag\, 30. April | 📍 Imperial Global \nHeiß. Laut. Unaufhaltsam.Bei LATINO GANG erwartet dich eine Nacht voller Energie\, Rhythmus und internationaler Club-Vibes. Deutschlands größstes Latin- & Afro-Event bringt die Tanzfläche zum Beben – mit Sounds\, die dich bis in die Morgenstunden tragen. \nSound by: \nDNEIRO x MASTER P x GREEKSTER \nSpecials: \n\nLatin\, Reggaeton\, Afro & Club Sounds\nMaximale Party-Eskalation & internationale Vibes\nVorfeiertag – keine Limits\n\nWeitere Infos: \n\nEintritt ab 18 Jahren\nEintritt: 10 € + 10 € Mindestverzehr\n\nSpür den Rhythmus – LATINO GANG im Imperial Global. 								\n				\n					\n				\n		\n					\n					\n				\n		\n					\n				\n				\n									\n					\n						\n									RESERVIERUNG\n					\n					\n				\n								\n				\n				\n				\n									\n					\n						\n									TICKETS
URL:https://imperialmainz.de/event/11012025/
CATEGORIES:Featured,Upcoming
ATTACH;FMTTYPE=image/jpeg:https://imperialmainz.de/wp-content/uploads/2024/11/01.02.2025_Imperial_Feed.jpg
END:VEVENT
BEGIN:VEVENT
DTSTART;TZID=UTC:20250208T220000
DTEND;TZID=UTC:20250209T050000
DTSTAMP:20260421T072254
CREATED:20241107T130621Z
LAST-MODIFIED:20250209T154540Z
UID:26052-1739052000-1739077200@imperialmainz.de
SUMMARY:SATURDAYS CLUBNIGHT 08.02.2025 - 90er & 2000er Edition
DESCRIPTION:LATINO GANG – Germany’s Biggest Latin / Afro Event\n📅 Donnerstag\, 30. April | 📍 Imperial Global \nHeiß. Laut. Unaufhaltsam.Bei LATINO GANG erwartet dich eine Nacht voller Energie\, Rhythmus und internationaler Club-Vibes. Deutschlands größstes Latin- & Afro-Event bringt die Tanzfläche zum Beben – mit Sounds\, die dich bis in die Morgenstunden tragen. \nSound by: \nDNEIRO x MASTER P x GREEKSTER \nSpecials: \n\nLatin\, Reggaeton\, Afro & Club Sounds\nMaximale Party-Eskalation & internationale Vibes\nVorfeiertag – keine Limits\n\nWeitere Infos: \n\nEintritt ab 18 Jahren\nEintritt: 10 € + 10 € Mindestverzehr\n\nSpür den Rhythmus – LATINO GANG im Imperial Global. 								\n				\n					\n				\n		\n					\n					\n				\n		\n					\n				\n				\n									\n					\n						\n									RESERVIERUNG\n					\n					\n				\n								\n				\n				\n				\n									\n					\n						\n									TICKETS
URL:https://imperialmainz.de/event/08022025/
ATTACH;FMTTYPE=image/jpeg:https://imperialmainz.de/wp-content/uploads/2024/11/08.02.2025_Imperial_Feed.jpg
END:VEVENT
BEGIN:VEVENT
DTSTART;TZID=UTC:20250214T220000
DTEND;TZID=UTC:20250215T050000
DTSTAMP:20260421T072254
CREATED:20250210T154242Z
LAST-MODIFIED:20250210T174352Z
UID:27387-1739570400-1739595600@imperialmainz.de
SUMMARY:Die Mega Party – Bulgarisch-Rumänisch 14.02.2025
DESCRIPTION:LATINO GANG – Germany’s Biggest Latin / Afro Event\n📅 Donnerstag\, 30. April | 📍 Imperial Global \nHeiß. Laut. Unaufhaltsam.Bei LATINO GANG erwartet dich eine Nacht voller Energie\, Rhythmus und internationaler Club-Vibes. Deutschlands größstes Latin- & Afro-Event bringt die Tanzfläche zum Beben – mit Sounds\, die dich bis in die Morgenstunden tragen. \nSound by: \nDNEIRO x MASTER P x GREEKSTER \nSpecials: \n\nLatin\, Reggaeton\, Afro & Club Sounds\nMaximale Party-Eskalation & internationale Vibes\nVorfeiertag – keine Limits\n\nWeitere Infos: \n\nEintritt ab 18 Jahren\nEintritt: 10 € + 10 € Mindestverzehr\n\nSpür den Rhythmus – LATINO GANG im Imperial Global. 								\n				\n					\n				\n		\n					\n					\n				\n		\n					\n				\n				\n									\n					\n						\n									RESERVIERUNG\n					\n					\n				\n								\n				\n				\n				\n									\n					\n						\n									TICKETS
URL:https://imperialmainz.de/event/die-mega-party-bulgarisch-rumaenisch/
CATEGORIES:Upcoming
ATTACH;FMTTYPE=image/jpeg:https://imperialmainz.de/wp-content/uploads/2025/02/PHOTO-2025-02-09-16-51-48.jpg
END:VEVENT
BEGIN:VEVENT
DTSTART;TZID=UTC:20250215T220000
DTEND;TZID=UTC:20250216T050000
DTSTAMP:20260421T072254
CREATED:20241105T104241Z
LAST-MODIFIED:20250117T120334Z
UID:26008-1739656800-1739682000@imperialmainz.de
SUMMARY:CLUBNIGHT SATURDAYS 15.02.2025 Ladies Night Edition
DESCRIPTION:LATINO GANG – Germany’s Biggest Latin / Afro Event\n📅 Donnerstag\, 30. April | 📍 Imperial Global \nHeiß. Laut. Unaufhaltsam.Bei LATINO GANG erwartet dich eine Nacht voller Energie\, Rhythmus und internationaler Club-Vibes. Deutschlands größstes Latin- & Afro-Event bringt die Tanzfläche zum Beben – mit Sounds\, die dich bis in die Morgenstunden tragen. \nSound by: \nDNEIRO x MASTER P x GREEKSTER \nSpecials: \n\nLatin\, Reggaeton\, Afro & Club Sounds\nMaximale Party-Eskalation & internationale Vibes\nVorfeiertag – keine Limits\n\nWeitere Infos: \n\nEintritt ab 18 Jahren\nEintritt: 10 € + 10 € Mindestverzehr\n\nSpür den Rhythmus – LATINO GANG im Imperial Global. 								\n				\n					\n				\n		\n					\n					\n				\n		\n					\n				\n				\n									\n					\n						\n									RESERVIERUNG\n					\n					\n				\n								\n				\n				\n				\n									\n					\n						\n									TICKETS
URL:https://imperialmainz.de/event/15022025/
CATEGORIES:Upcoming
ATTACH;FMTTYPE=image/jpeg:https://imperialmainz.de/wp-content/uploads/2024/11/15.02.2025_Imperial_Feed.jpg
END:VEVENT
BEGIN:VEVENT
DTSTART;TZID=UTC:20250222T220000
DTEND;TZID=UTC:20250223T050000
DTSTAMP:20260421T072254
CREATED:20250204T233854Z
LAST-MODIFIED:20250206T002624Z
UID:27166-1740261600-1740286800@imperialmainz.de
SUMMARY:CLUBNIGHT SATURDAYS 22.02.2025 Birthday Party
DESCRIPTION:LATINO GANG – Germany’s Biggest Latin / Afro Event\n📅 Donnerstag\, 30. April | 📍 Imperial Global \nHeiß. Laut. Unaufhaltsam.Bei LATINO GANG erwartet dich eine Nacht voller Energie\, Rhythmus und internationaler Club-Vibes. Deutschlands größstes Latin- & Afro-Event bringt die Tanzfläche zum Beben – mit Sounds\, die dich bis in die Morgenstunden tragen. \nSound by: \nDNEIRO x MASTER P x GREEKSTER \nSpecials: \n\nLatin\, Reggaeton\, Afro & Club Sounds\nMaximale Party-Eskalation & internationale Vibes\nVorfeiertag – keine Limits\n\nWeitere Infos: \n\nEintritt ab 18 Jahren\nEintritt: 10 € + 10 € Mindestverzehr\n\nSpür den Rhythmus – LATINO GANG im Imperial Global. 								\n				\n					\n				\n		\n					\n					\n				\n		\n					\n				\n				\n									\n					\n						\n									RESERVIERUNG\n					\n					\n				\n								\n				\n				\n				\n									\n					\n						\n									TICKETS
URL:https://imperialmainz.de/event/clubnight-saturdays-ue30-edition-01-02-2025/
CATEGORIES:Upcoming
ATTACH;FMTTYPE=image/jpeg:https://imperialmainz.de/wp-content/uploads/2025/02/Insta-Story-22Feb.jpg
END:VEVENT
BEGIN:VEVENT
DTSTART;TZID=UTC:20250227T201100
DTEND;TZID=UTC:20250228T050000
DTSTAMP:20260421T072254
CREATED:20250206T003524Z
LAST-MODIFIED:20250225T155644Z
UID:27220-1740687060-1740718800@imperialmainz.de
SUMMARY:ALTWEIBER FASTNACHT 27.02.2025 DONNERSTAGS SPECIAL
DESCRIPTION:LATINO GANG – Germany’s Biggest Latin / Afro Event\n📅 Donnerstag\, 30. April | 📍 Imperial Global \nHeiß. Laut. Unaufhaltsam.Bei LATINO GANG erwartet dich eine Nacht voller Energie\, Rhythmus und internationaler Club-Vibes. Deutschlands größstes Latin- & Afro-Event bringt die Tanzfläche zum Beben – mit Sounds\, die dich bis in die Morgenstunden tragen. \nSound by: \nDNEIRO x MASTER P x GREEKSTER \nSpecials: \n\nLatin\, Reggaeton\, Afro & Club Sounds\nMaximale Party-Eskalation & internationale Vibes\nVorfeiertag – keine Limits\n\nWeitere Infos: \n\nEintritt ab 18 Jahren\nEintritt: 10 € + 10 € Mindestverzehr\n\nSpür den Rhythmus – LATINO GANG im Imperial Global. 								\n				\n					\n				\n		\n					\n					\n				\n		\n					\n				\n				\n									\n					\n						\n									RESERVIERUNG\n					\n					\n				\n								\n				\n				\n				\n									\n					\n						\n									TICKETS
URL:https://imperialmainz.de/event/altweiber-fastnacht/
CATEGORIES:Featured,Upcoming
ATTACH;FMTTYPE=image/jpeg:https://imperialmainz.de/wp-content/uploads/2025/02/Altweiber-fastnacht-Hochkant-Kopie.jpg
END:VEVENT
END:VCALENDAR