BEGIN:VCALENDAR
VERSION:2.0
PRODID:-//Imperial Mainz - ECPv6.15.20//NONSGML v1.0//EN
CALSCALE:GREGORIAN
METHOD:PUBLISH
X-ORIGINAL-URL:https://imperialmainz.de
X-WR-CALDESC:Veranstaltungen für Imperial Mainz
REFRESH-INTERVAL;VALUE=DURATION:PT1H
X-Robots-Tag:noindex
X-PUBLISHED-TTL:PT1H
BEGIN:VTIMEZONE
TZID:UTC
BEGIN:STANDARD
TZOFFSETFROM:+0000
TZOFFSETTO:+0000
TZNAME:UTC
DTSTART:20240101T000000
END:STANDARD
END:VTIMEZONE
BEGIN:VEVENT
DTSTART;TZID=UTC:20250430T220000
DTEND;TZID=UTC:20250501T220000
DTSTAMP:20260420T211558
CREATED:20250402T114723Z
LAST-MODIFIED:20250429T201243Z
UID:28319-1746050400-1746136800@imperialmainz.de
SUMMARY:BAILA CONMIGO / 30.04.2025
DESCRIPTION:LATINO GANG – Germany’s Biggest Latin / Afro Event\n📅 Donnerstag\, 30. April | 📍 Imperial Global \nHeiß. Laut. Unaufhaltsam.Bei LATINO GANG erwartet dich eine Nacht voller Energie\, Rhythmus und internationaler Club-Vibes. Deutschlands größstes Latin- & Afro-Event bringt die Tanzfläche zum Beben – mit Sounds\, die dich bis in die Morgenstunden tragen. \nSound by: \nDNEIRO x MASTER P x GREEKSTER \nSpecials: \n\nLatin\, Reggaeton\, Afro & Club Sounds\nMaximale Party-Eskalation & internationale Vibes\nVorfeiertag – keine Limits\n\nWeitere Infos: \n\nEintritt ab 18 Jahren\nEintritt: 10 € + 10 € Mindestverzehr\n\nSpür den Rhythmus – LATINO GANG im Imperial Global. 								\n				\n					\n				\n		\n					\n					\n				\n		\n					\n				\n				\n									\n					\n						\n									RESERVIERUNG\n					\n					\n				\n								\n				\n				\n				\n									\n					\n						\n									TICKETS
URL:https://imperialmainz.de/event/baila-conmigo-30-04-2025/
CATEGORIES:Featured,Upcoming
ATTACH;FMTTYPE=image/jpeg:https://imperialmainz.de/wp-content/uploads/2025/04/PHOTO-2025-04-02-13-49-21-scaled.jpg
END:VEVENT
BEGIN:VEVENT
DTSTART;TZID=UTC:20250503T220000
DTEND;TZID=UTC:20250504T050000
DTSTAMP:20260420T211558
CREATED:20250425T022826Z
LAST-MODIFIED:20250429T201303Z
UID:28504-1746309600-1746334800@imperialmainz.de
SUMMARY:ANONYM CLUB / 03.05.2025
DESCRIPTION:LATINO GANG – Germany’s Biggest Latin / Afro Event\n📅 Donnerstag\, 30. April | 📍 Imperial Global \nHeiß. Laut. Unaufhaltsam.Bei LATINO GANG erwartet dich eine Nacht voller Energie\, Rhythmus und internationaler Club-Vibes. Deutschlands größstes Latin- & Afro-Event bringt die Tanzfläche zum Beben – mit Sounds\, die dich bis in die Morgenstunden tragen. \nSound by: \nDNEIRO x MASTER P x GREEKSTER \nSpecials: \n\nLatin\, Reggaeton\, Afro & Club Sounds\nMaximale Party-Eskalation & internationale Vibes\nVorfeiertag – keine Limits\n\nWeitere Infos: \n\nEintritt ab 18 Jahren\nEintritt: 10 € + 10 € Mindestverzehr\n\nSpür den Rhythmus – LATINO GANG im Imperial Global. 								\n				\n					\n				\n		\n					\n					\n				\n		\n					\n				\n				\n									\n					\n						\n									RESERVIERUNG\n					\n					\n				\n								\n				\n				\n				\n									\n					\n						\n									TICKETS
URL:https://imperialmainz.de/event/anonym-club-03-05-2025/
CATEGORIES:Featured,Upcoming
ATTACH;FMTTYPE=image/jpeg:https://imperialmainz.de/wp-content/uploads/2025/04/VORLAGE-google-Format-Event-anonym-night-Kopie.jpg
END:VEVENT
BEGIN:VEVENT
DTSTART;TZID=UTC:20250509T220000
DTEND;TZID=UTC:20250510T050000
DTSTAMP:20260420T211558
CREATED:20250507T110307Z
LAST-MODIFIED:20250507T111022Z
UID:28714-1746828000-1746853200@imperialmainz.de
SUMMARY:D.I.S.C.O. VYBZ /  - 09.05.2025
DESCRIPTION:LATINO GANG – Germany’s Biggest Latin / Afro Event\n📅 Donnerstag\, 30. April | 📍 Imperial Global \nHeiß. Laut. Unaufhaltsam.Bei LATINO GANG erwartet dich eine Nacht voller Energie\, Rhythmus und internationaler Club-Vibes. Deutschlands größstes Latin- & Afro-Event bringt die Tanzfläche zum Beben – mit Sounds\, die dich bis in die Morgenstunden tragen. \nSound by: \nDNEIRO x MASTER P x GREEKSTER \nSpecials: \n\nLatin\, Reggaeton\, Afro & Club Sounds\nMaximale Party-Eskalation & internationale Vibes\nVorfeiertag – keine Limits\n\nWeitere Infos: \n\nEintritt ab 18 Jahren\nEintritt: 10 € + 10 € Mindestverzehr\n\nSpür den Rhythmus – LATINO GANG im Imperial Global. 								\n				\n					\n				\n		\n					\n					\n				\n		\n					\n				\n				\n									\n					\n						\n									RESERVIERUNG\n					\n					\n				\n								\n				\n				\n				\n									\n					\n						\n									TICKETS
URL:https://imperialmainz.de/event/d-i-s-c-o-vybz-09-05-2025/
CATEGORIES:Upcoming
ATTACH;FMTTYPE=image/jpeg:https://imperialmainz.de/wp-content/uploads/2025/05/Insta-Beitrag-16plus-Mai-Kopie.jpg
END:VEVENT
BEGIN:VEVENT
DTSTART;TZID=UTC:20250510T220000
DTEND;TZID=UTC:20250511T050000
DTSTAMP:20260420T211558
CREATED:20250429T200900Z
LAST-MODIFIED:20250429T201200Z
UID:28519-1746914400-1746939600@imperialmainz.de
SUMMARY:90ER 2000 CLUBNIGHT / 10.05.2025
DESCRIPTION:LATINO GANG – Germany’s Biggest Latin / Afro Event\n📅 Donnerstag\, 30. April | 📍 Imperial Global \nHeiß. Laut. Unaufhaltsam.Bei LATINO GANG erwartet dich eine Nacht voller Energie\, Rhythmus und internationaler Club-Vibes. Deutschlands größstes Latin- & Afro-Event bringt die Tanzfläche zum Beben – mit Sounds\, die dich bis in die Morgenstunden tragen. \nSound by: \nDNEIRO x MASTER P x GREEKSTER \nSpecials: \n\nLatin\, Reggaeton\, Afro & Club Sounds\nMaximale Party-Eskalation & internationale Vibes\nVorfeiertag – keine Limits\n\nWeitere Infos: \n\nEintritt ab 18 Jahren\nEintritt: 10 € + 10 € Mindestverzehr\n\nSpür den Rhythmus – LATINO GANG im Imperial Global. 								\n				\n					\n				\n		\n					\n					\n				\n		\n					\n				\n				\n									\n					\n						\n									RESERVIERUNG\n					\n					\n				\n								\n				\n				\n				\n									\n					\n						\n									TICKETS
URL:https://imperialmainz.de/event/90er-2000-clubnight-10-05-2025/
CATEGORIES:Upcoming
ATTACH;FMTTYPE=image/jpeg:https://imperialmainz.de/wp-content/uploads/2025/04/Insta-Story-10-Mai-Kopie.jpg
END:VEVENT
BEGIN:VEVENT
DTSTART;TZID=UTC:20250516T220000
DTEND;TZID=UTC:20250517T050000
DTSTAMP:20260420T211558
CREATED:20250424T130423Z
LAST-MODIFIED:20250427T220443Z
UID:28495-1747432800-1747458000@imperialmainz.de
SUMMARY:90er Old School Hip Hop / 16.05.2025
DESCRIPTION:LATINO GANG – Germany’s Biggest Latin / Afro Event\n📅 Donnerstag\, 30. April | 📍 Imperial Global \nHeiß. Laut. Unaufhaltsam.Bei LATINO GANG erwartet dich eine Nacht voller Energie\, Rhythmus und internationaler Club-Vibes. Deutschlands größstes Latin- & Afro-Event bringt die Tanzfläche zum Beben – mit Sounds\, die dich bis in die Morgenstunden tragen. \nSound by: \nDNEIRO x MASTER P x GREEKSTER \nSpecials: \n\nLatin\, Reggaeton\, Afro & Club Sounds\nMaximale Party-Eskalation & internationale Vibes\nVorfeiertag – keine Limits\n\nWeitere Infos: \n\nEintritt ab 18 Jahren\nEintritt: 10 € + 10 € Mindestverzehr\n\nSpür den Rhythmus – LATINO GANG im Imperial Global. 								\n				\n					\n				\n		\n					\n					\n				\n		\n					\n				\n				\n									\n					\n						\n									RESERVIERUNG\n					\n					\n				\n								\n				\n				\n				\n									\n					\n						\n									TICKETS
URL:https://imperialmainz.de/event/90er-old-school-hip-hop-16-05-2025/
CATEGORIES:Upcoming
ATTACH;FMTTYPE=image/jpeg:https://imperialmainz.de/wp-content/uploads/2025/04/491709785_992372792985681_6560076680758003208_n.jpg
END:VEVENT
BEGIN:VEVENT
DTSTART;TZID=UTC:20250516T220000
DTEND;TZID=UTC:20250517T050000
DTSTAMP:20260420T211558
CREATED:20250424T130842Z
LAST-MODIFIED:20250427T215656Z
UID:28499-1747432800-1747458000@imperialmainz.de
SUMMARY:Ü40 PARTY / 16.05.2025
DESCRIPTION:LATINO GANG – Germany’s Biggest Latin / Afro Event\n📅 Donnerstag\, 30. April | 📍 Imperial Global \nHeiß. Laut. Unaufhaltsam.Bei LATINO GANG erwartet dich eine Nacht voller Energie\, Rhythmus und internationaler Club-Vibes. Deutschlands größstes Latin- & Afro-Event bringt die Tanzfläche zum Beben – mit Sounds\, die dich bis in die Morgenstunden tragen. \nSound by: \nDNEIRO x MASTER P x GREEKSTER \nSpecials: \n\nLatin\, Reggaeton\, Afro & Club Sounds\nMaximale Party-Eskalation & internationale Vibes\nVorfeiertag – keine Limits\n\nWeitere Infos: \n\nEintritt ab 18 Jahren\nEintritt: 10 € + 10 € Mindestverzehr\n\nSpür den Rhythmus – LATINO GANG im Imperial Global. 								\n				\n					\n				\n		\n					\n					\n				\n		\n					\n				\n				\n									\n					\n						\n									RESERVIERUNG\n					\n					\n				\n								\n				\n				\n				\n									\n					\n						\n									TICKETS
URL:https://imperialmainz.de/event/ue40-party-16-05-2025/
CATEGORIES:Upcoming
ATTACH;FMTTYPE=image/jpeg:https://imperialmainz.de/wp-content/uploads/2025/04/491228696_994380236118270_3687295011008046076_n.jpg
END:VEVENT
BEGIN:VEVENT
DTSTART;TZID=UTC:20250517T220000
DTEND;TZID=UTC:20250518T050000
DTSTAMP:20260420T211558
CREATED:20250430T104434Z
LAST-MODIFIED:20250430T141155Z
UID:28525-1747519200-1747544400@imperialmainz.de
SUMMARY:„La Bella Notte Italiana“ - 17.05.2025
DESCRIPTION:LATINO GANG – Germany’s Biggest Latin / Afro Event\n📅 Donnerstag\, 30. April | 📍 Imperial Global \nHeiß. Laut. Unaufhaltsam.Bei LATINO GANG erwartet dich eine Nacht voller Energie\, Rhythmus und internationaler Club-Vibes. Deutschlands größstes Latin- & Afro-Event bringt die Tanzfläche zum Beben – mit Sounds\, die dich bis in die Morgenstunden tragen. \nSound by: \nDNEIRO x MASTER P x GREEKSTER \nSpecials: \n\nLatin\, Reggaeton\, Afro & Club Sounds\nMaximale Party-Eskalation & internationale Vibes\nVorfeiertag – keine Limits\n\nWeitere Infos: \n\nEintritt ab 18 Jahren\nEintritt: 10 € + 10 € Mindestverzehr\n\nSpür den Rhythmus – LATINO GANG im Imperial Global. 								\n				\n					\n				\n		\n					\n					\n				\n		\n					\n				\n				\n									\n					\n						\n									RESERVIERUNG\n					\n					\n				\n								\n				\n				\n				\n									\n					\n						\n									TICKETS
URL:https://imperialmainz.de/event/la-bella-notte-italiana-17-05-2025/
CATEGORIES:Upcoming
ATTACH;FMTTYPE=image/jpeg:https://imperialmainz.de/wp-content/uploads/2025/04/Medien-1-83E735D5-3AB0-40CB-B2EA-4FE010CF5BC0.jpg
END:VEVENT
BEGIN:VEVENT
DTSTART;TZID=UTC:20250524T220000
DTEND;TZID=UTC:20250525T050000
DTSTAMP:20260420T211558
CREATED:20250430T133947Z
LAST-MODIFIED:20250512T154726Z
UID:28531-1748124000-1748149200@imperialmainz.de
SUMMARY:„CHEF LEGT AUF“ - LADY´S NIGHT EDITION - 24.05.2025
DESCRIPTION:LATINO GANG – Germany’s Biggest Latin / Afro Event\n📅 Donnerstag\, 30. April | 📍 Imperial Global \nHeiß. Laut. Unaufhaltsam.Bei LATINO GANG erwartet dich eine Nacht voller Energie\, Rhythmus und internationaler Club-Vibes. Deutschlands größstes Latin- & Afro-Event bringt die Tanzfläche zum Beben – mit Sounds\, die dich bis in die Morgenstunden tragen. \nSound by: \nDNEIRO x MASTER P x GREEKSTER \nSpecials: \n\nLatin\, Reggaeton\, Afro & Club Sounds\nMaximale Party-Eskalation & internationale Vibes\nVorfeiertag – keine Limits\n\nWeitere Infos: \n\nEintritt ab 18 Jahren\nEintritt: 10 € + 10 € Mindestverzehr\n\nSpür den Rhythmus – LATINO GANG im Imperial Global. 								\n				\n					\n				\n		\n					\n					\n				\n		\n					\n				\n				\n									\n					\n						\n									RESERVIERUNG\n					\n					\n				\n								\n				\n				\n				\n									\n					\n						\n									TICKETS
URL:https://imperialmainz.de/event/chef-legt-auf-24-05-2025/
CATEGORIES:Upcoming
ATTACH;FMTTYPE=image/jpeg:https://imperialmainz.de/wp-content/uploads/2025/04/Insta-Beitrag-CHEF-LEGT-AUF-Kopie-1.jpg
END:VEVENT
BEGIN:VEVENT
DTSTART;TZID=UTC:20250528T220000
DTEND;TZID=UTC:20250529T050000
DTSTAMP:20260420T211558
CREATED:20250513T162859Z
LAST-MODIFIED:20250513T165317Z
UID:28731-1748469600-1748494800@imperialmainz.de
SUMMARY:80th CLUBNIGHT / 28.05.2025
DESCRIPTION:LATINO GANG – Germany’s Biggest Latin / Afro Event\n📅 Donnerstag\, 30. April | 📍 Imperial Global \nHeiß. Laut. Unaufhaltsam.Bei LATINO GANG erwartet dich eine Nacht voller Energie\, Rhythmus und internationaler Club-Vibes. Deutschlands größstes Latin- & Afro-Event bringt die Tanzfläche zum Beben – mit Sounds\, die dich bis in die Morgenstunden tragen. \nSound by: \nDNEIRO x MASTER P x GREEKSTER \nSpecials: \n\nLatin\, Reggaeton\, Afro & Club Sounds\nMaximale Party-Eskalation & internationale Vibes\nVorfeiertag – keine Limits\n\nWeitere Infos: \n\nEintritt ab 18 Jahren\nEintritt: 10 € + 10 € Mindestverzehr\n\nSpür den Rhythmus – LATINO GANG im Imperial Global. 								\n				\n					\n				\n		\n					\n					\n				\n		\n					\n				\n				\n									\n					\n						\n									RESERVIERUNG\n					\n					\n				\n								\n				\n				\n				\n									\n					\n						\n									TICKETS
URL:https://imperialmainz.de/event/80th-clubnight-28-05-2025/
CATEGORIES:Upcoming
ATTACH;FMTTYPE=image/jpeg:https://imperialmainz.de/wp-content/uploads/2025/05/Insta-Beitrag-80th-Kopie.jpg
END:VEVENT
BEGIN:VEVENT
DTSTART;TZID=UTC:20250531T220000
DTEND;TZID=UTC:20250601T050000
DTSTAMP:20260420T211558
CREATED:20250522T002936Z
LAST-MODIFIED:20250522T003921Z
UID:28740-1748728800-1748754000@imperialmainz.de
SUMMARY:BIRTHDAY PARTY / 31.05.2025
DESCRIPTION:LATINO GANG – Germany’s Biggest Latin / Afro Event\n📅 Donnerstag\, 30. April | 📍 Imperial Global \nHeiß. Laut. Unaufhaltsam.Bei LATINO GANG erwartet dich eine Nacht voller Energie\, Rhythmus und internationaler Club-Vibes. Deutschlands größstes Latin- & Afro-Event bringt die Tanzfläche zum Beben – mit Sounds\, die dich bis in die Morgenstunden tragen. \nSound by: \nDNEIRO x MASTER P x GREEKSTER \nSpecials: \n\nLatin\, Reggaeton\, Afro & Club Sounds\nMaximale Party-Eskalation & internationale Vibes\nVorfeiertag – keine Limits\n\nWeitere Infos: \n\nEintritt ab 18 Jahren\nEintritt: 10 € + 10 € Mindestverzehr\n\nSpür den Rhythmus – LATINO GANG im Imperial Global. 								\n				\n					\n				\n		\n					\n					\n				\n		\n					\n				\n				\n									\n					\n						\n									RESERVIERUNG\n					\n					\n				\n								\n				\n				\n				\n									\n					\n						\n									TICKETS
URL:https://imperialmainz.de/event/birthday-party-31-05-2025/
CATEGORIES:Featured,Upcoming
ATTACH;FMTTYPE=image/jpeg:https://imperialmainz.de/wp-content/uploads/2025/05/Insta-Beitrag-31-Mai-Birthday-Kopie.jpg
END:VEVENT
END:VCALENDAR